BEGIN:VCALENDAR
VERSION:2.0
PRODID:-//YazilimKodla//Wedding Invite//TR
CALSCALE:GREGORIAN
METHOD:PUBLISH
BEGIN:VEVENT
UID:0f2600569bde3ef6@yazilimkodla.net
DTSTAMP:20260419T221416Z
DTSTART:20260906T160000Z
DTEND:20260906T200000Z
SUMMARY:HAKAN & ALEYNA Düğünü
DESCRIPTION:HAKAN & ALEYNA - Karasu Gölpark
LOCATION:KARASU GÖLPARK DÜĞÜN SALONU, Aziziye, 54500 Karasu/Sakarya
END:VEVENT
END:VCALENDAR
